BEGIN:VCALENDAR
VERSION:2.0
PRODID:-//Savona Nel Cuore dell&#039;Africa - ECPv6.15.20//NONSGML v1.0//EN
CALSCALE:GREGORIAN
METHOD:PUBLISH
X-ORIGINAL-URL:https://savonanelcuoredellafrica.org
X-WR-CALDESC:Eventi per Savona Nel Cuore dell&#039;Africa
REFRESH-INTERVAL;VALUE=DURATION:PT1H
X-Robots-Tag:noindex
X-PUBLISHED-TTL:PT1H
BEGIN:VTIMEZONE
TZID:Europe/Rome
BEGIN:DAYLIGHT
TZOFFSETFROM:+0100
TZOFFSETTO:+0200
TZNAME:CEST
DTSTART:20250330T010000
END:DAYLIGHT
BEGIN:STANDARD
TZOFFSETFROM:+0200
TZOFFSETTO:+0100
TZNAME:CET
DTSTART:20251026T010000
END:STANDARD
BEGIN:DAYLIGHT
TZOFFSETFROM:+0100
TZOFFSETTO:+0200
TZNAME:CEST
DTSTART:20260329T010000
END:DAYLIGHT
BEGIN:STANDARD
TZOFFSETFROM:+0200
TZOFFSETTO:+0100
TZNAME:CET
DTSTART:20261025T010000
END:STANDARD
BEGIN:DAYLIGHT
TZOFFSETFROM:+0100
TZOFFSETTO:+0200
TZNAME:CEST
DTSTART:20270328T010000
END:DAYLIGHT
BEGIN:STANDARD
TZOFFSETFROM:+0200
TZOFFSETTO:+0100
TZNAME:CET
DTSTART:20271031T010000
END:STANDARD
END:VTIMEZONE
BEGIN:VEVENT
DTSTART;TZID=Europe/Rome:20260418T204500
DTEND;TZID=Europe/Rome:20260418T223000
DTSTAMP:20260425T154542
CREATED:20260419T143559Z
LAST-MODIFIED:20260419T143559Z
UID:1142-1776545100-1776551400@savonanelcuoredellafrica.org
SUMMARY:CONCERTO MUSICA CLASSICA
DESCRIPTION:L’associazione Medici Cattolici Italiani (AMC) sezione di Savona promuove e organizza in collaborazione con altre associazioni e confraternite il \nCONCERTO  \na finalità benefica  \nW.A. Mozart \nIl Concerto si terrà Sabato 18 Aprile 2026 a Savona presso la Chiesa Sant’Andrea\, Piazza dei Consoli alle ore 20:45\nL’iniziativa intende sostenere i progetti dell’associazione ASCA Savona nel cuore dell’Africa. \nIngresso Libero
URL:https://savonanelcuoredellafrica.org/event/concerto-musica-classica/
LOCATION:Chiesa Sant’Andrea Apostolo\, Piazza dei Consoli\, Savona\, Seleziona uno Stato:\, 17100\, Italy
ATTACH;FMTTYPE=image/jpeg:https://savonanelcuoredellafrica.org/wp-content/uploads/2026/04/Concerto-Mozart-18.04.2026.jpeg
END:VEVENT
END:VCALENDAR