BEGIN:VCALENDAR
VERSION:2.0
PRODID:-//Savona Nel Cuore dell&#039;Africa - ECPv6.15.20//NONSGML v1.0//EN
CALSCALE:GREGORIAN
METHOD:PUBLISH
X-WR-CALNAME:Savona Nel Cuore dell&#039;Africa
X-ORIGINAL-URL:https://savonanelcuoredellafrica.org
X-WR-CALDESC:Eventi per Savona Nel Cuore dell&#039;Africa
REFRESH-INTERVAL;VALUE=DURATION:PT1H
X-Robots-Tag:noindex
X-PUBLISHED-TTL:PT1H
BEGIN:VTIMEZONE
TZID:Europe/Rome
BEGIN:DAYLIGHT
TZOFFSETFROM:+0100
TZOFFSETTO:+0200
TZNAME:CEST
DTSTART:20180325T010000
END:DAYLIGHT
BEGIN:STANDARD
TZOFFSETFROM:+0200
TZOFFSETTO:+0100
TZNAME:CET
DTSTART:20181028T010000
END:STANDARD
BEGIN:DAYLIGHT
TZOFFSETFROM:+0100
TZOFFSETTO:+0200
TZNAME:CEST
DTSTART:20190331T010000
END:DAYLIGHT
BEGIN:STANDARD
TZOFFSETFROM:+0200
TZOFFSETTO:+0100
TZNAME:CET
DTSTART:20191027T010000
END:STANDARD
BEGIN:DAYLIGHT
TZOFFSETFROM:+0100
TZOFFSETTO:+0200
TZNAME:CEST
DTSTART:20200329T010000
END:DAYLIGHT
BEGIN:STANDARD
TZOFFSETFROM:+0200
TZOFFSETTO:+0100
TZNAME:CET
DTSTART:20201025T010000
END:STANDARD
END:VTIMEZONE
BEGIN:VEVENT
DTSTART;VALUE=DATE:20191220
DTEND;VALUE=DATE:20191221
DTSTAMP:20260423T001203
CREATED:20230913T135935Z
LAST-MODIFIED:20230913T135959Z
UID:748-1576800000-1576886399@savonanelcuoredellafrica.org
SUMMARY:Spettacolo Medical Mystery Tour : "Il marasma dell'Opera" 20 dicembre 2019
DESCRIPTION:E’ con grande piacere e allegria che vi comunichiamo che anche quest’anno i nostri Amici del Medical Mystery Tour\nci supportano con un divertentissimo spettacolo! \nIl giorno \nVenerdì 20 Dicembre 2019 alle ore 20.45 \nal Teatro G. Chiabrera di Savona\nsi terrà il varietà dal titolo \n“IL MARASMA DELL’OPERA” \nIngresso offerta minima 10 euro.\nUna parte del ricavato dello spettacolo sarà devoluto in favore della nostra Associazione ASCA “Savona nel Cuore dell’Africa”. \nCi scambieremo gli Auguri di Natale all’insegna delle risate e dell’allegria! \nVi aspettiamo!!!
URL:https://savonanelcuoredellafrica.org/event/spettacolo-medical-mystery-tour-il-marasma-dellopera-20-dicembre-2019/
LOCATION:Seleziona uno Stato:
END:VEVENT
BEGIN:VEVENT
DTSTART;VALUE=DATE:20191117
DTEND;VALUE=DATE:20191118
DTSTAMP:20260423T001203
CREATED:20230913T140105Z
LAST-MODIFIED:20230913T140119Z
UID:750-1573948800-1574035199@savonanelcuoredellafrica.org
SUMMARY:Pranzo Solidale: 17 novembre 2019 Progetto "Dal Gioco...alla Vita"
DESCRIPTION:Pranzo Solidale: 17 novembre 2019 Progetto “Dal Gioco … alla Vita” \nPranzo benefico di raccolta fondi per il progetto ” Dal gioco … alla vita ” che si occupa di formare insegnanti ed educatori sportivi\, alla fine di facilitare il superamento dei traumi della guerra e il reinserimento sociale dei ragazzi soldato nella Repubblica Centrafricana (RCA) . \nIl pranzo si terrà presso la Parrocchia di San Pietro in Via Untoria\, 6 a Savona. \nLe prenotazioni dovranno pervenire entro mercoledì 13 novembre 2019 ai numeri: \nAnna Maria C. 347 7443 699 \nCarla B. 347 4652 500 \nMarco A. 335 1364 939 \nPatrizia C. 349 2637 328 \nMarisa P. 327 1762 822 \nVi aspettiamo numerosi!
URL:https://savonanelcuoredellafrica.org/event/pranzo-solidale-17-novembre-2019-progetto-dal-gioco-alla-vita/
LOCATION:Seleziona uno Stato:
END:VEVENT
BEGIN:VEVENT
DTSTART;VALUE=DATE:20191005
DTEND;VALUE=DATE:20191006
DTSTAMP:20260423T001203
CREATED:20230913T140226Z
LAST-MODIFIED:20230913T140241Z
UID:752-1570233600-1570319999@savonanelcuoredellafrica.org
SUMMARY:Convegno ECM "Organizzazione e salute: la sfida africana" Savona 5 ottobre 2019
DESCRIPTION:Convegno ECM “Organizzazione e salute: la sfida africana”  \nCorso Base per operatori sanitari interessati alla cooperazione internazionale \nSavona 5 ottobre 2019 – Sala Multimediale dell’Ordine dei Medici di Savona c / o Centro Polifunzionale Le Officine – Piazza Simone Weil\, 40 \nOrganizzato da ASCA Savona nel Cuore dell’Africa e Medici con l’Africa CUAMM \nProgramma:\n8.30-9.00 Registrazione Partecipanti\n9.00-11.00 Prima Sessione: Cooperare nel Sistema Sanitario Africano; Organizzazione e Gestione delle risorse umane; Il caso di Medici con l’Africa Cuamm\n11.00-13.00 Seconda sessione: Cooperazione e sviluppo sanitario nell’Africa Sub Sahariana; Il caso di Savona nel Cuore dell’Africa\n13.00-14.00 Pausa pranzo\n14.00-16.00 Terza sessione: Il trattamento delle malattie infettive in contesti a risorse limitate; Tubercolosi; Ebola; Malaria\n16.00-16.30 Compilazione questionari ECM \nL’evento è stato accreditato ECM per 39 Medici\, 50 Infermieri\ne 10 Ostetriche.\nIl rilascio dei crediti è subordinato al superamento della prova di valutazione dell’apprendimento e alla compilazione del questionario di gradimento.\nISCRIZIONE GRATUITA E OBBLIGATORIA fino ad esaurimento posti. \nIscrizioni:\nMedici: www.omceosv.it\nSezione Eventi/News Telefono 019 826427\nInfermieri ed ostetriche: www.ipasvisavona.org\nSezione Eventi/News Telefono 010 59 06 11 \nResponsabile Scientifico: Dott. Luca Corti \nSegreteria Organizzativa: Dott. Marco Anselmo\, Dott.ssa Erika Luzzo\, Dott. Bruno Astengo\, Dott. Stefano Durando \nPer Informazioni:\nwww.savonanelcuoredellafrica.org – 3409599355\nwww.mediciconlafrica.org – 3450525221
URL:https://savonanelcuoredellafrica.org/event/convegno-ecm-organizzazione-e-salute-la-sfida-africana-savona-5-ottobre-2019/
LOCATION:Seleziona uno Stato:
END:VEVENT
BEGIN:VEVENT
DTSTART;VALUE=DATE:20190613
DTEND;VALUE=DATE:20190614
DTSTAMP:20260423T001203
CREATED:20230913T140506Z
LAST-MODIFIED:20230913T140506Z
UID:757-1560384000-1560470399@savonanelcuoredellafrica.org
SUMMARY:Danzando per ASCA
DESCRIPTION:Centro Danza Savona organizza uno spettacolo di danza in sostegno dei progetti di ASCA. Alle h 21 presso il Teatro Chiabrera di Savona.
URL:https://savonanelcuoredellafrica.org/event/danzando-per-asca/
LOCATION:Seleziona uno Stato:
END:VEVENT
BEGIN:VEVENT
DTSTART;VALUE=DATE:20190531
DTEND;VALUE=DATE:20190601
DTSTAMP:20260423T001203
CREATED:20230913T140420Z
LAST-MODIFIED:20230913T140420Z
UID:755-1559260800-1559347199@savonanelcuoredellafrica.org
SUMMARY:Note per il sorriso di un bimbo
DESCRIPTION:DNA Musica\, Associazione Musicale e Culturale di Savona\, presenta la dodicesima edizione di Note per il sorriso di un bimbo. Lo spettacolo a scopo benefico è finalizzato alla raccolta fondi per la realizzazione del progetto ” Hopital Notre Dame de la Misericorde”\, h 20.30.
URL:https://savonanelcuoredellafrica.org/event/note-per-il-sorriso-di-un-bimbo/
LOCATION:Seleziona uno Stato:
END:VEVENT
END:VCALENDAR